Package: pathwayPCA Version: 1.24.0 Command: /home/biocbuild/bbs-3.21-bioc/R/bin/R CMD build --keep-empty-dirs --no-resave-data pathwayPCA StartedAt: 2025-10-08 19:04:32 -0400 (Wed, 08 Oct 2025) EndedAt: 2025-10-08 19:06:50 -0400 (Wed, 08 Oct 2025) EllapsedTime: 138.1 seconds RetCode: 0 Status: OK PackageFile: pathwayPCA_1.24.0.tar.gz PackageFileSize: 3.388 MiB