Package: pathwayPCA Version: 1.26.0 Command: /Library/Frameworks/R.framework/Resources/bin/R CMD INSTALL pathwayPCA StartedAt: 2025-11-03 15:12:01 -0500 (Mon, 03 Nov 2025) EndedAt: 2025-11-03 15:12:35 -0500 (Mon, 03 Nov 2025) EllapsedTime: 33.2 seconds RetCode: 0 Status: OK