Package: pathwayPCA Version: 1.24.0 Maintainer: Gabriel Odom MaintainerEmail: gabriel.odom at med.miami.edu git_url: https://git.bioconductor.org/packages/pathwayPCA git_branch: RELEASE_3_21 git_last_commit: d745996 git_last_commit_date: 2025-04-15 11:42:25 -0400 (Tue, 15 Apr 2025)