Package: pathview Version: 1.50.0 Command: /home/biocbuild/bbs-3.22-bioc/R/bin/R CMD INSTALL pathview StartedAt: 2025-11-11 15:30:16 -0500 (Tue, 11 Nov 2025) EndedAt: 2025-11-11 15:30:33 -0500 (Tue, 11 Nov 2025) EllapsedTime: 17.0 seconds RetCode: 0 Status: OK