Package: pathview Version: 1.50.0 Command: /Library/Frameworks/R.framework/Resources/bin/R CMD INSTALL pathview StartedAt: 2025-11-02 15:09:03 -0500 (Sun, 02 Nov 2025) EndedAt: 2025-11-02 15:09:10 -0500 (Sun, 02 Nov 2025) EllapsedTime: 6.8 seconds RetCode: 0 Status: OK