Package: pathview Version: 1.50.0 Command: /Library/Frameworks/R.framework/Resources/bin/R CMD build --keep-empty-dirs --no-resave-data pathview StartedAt: 2025-10-31 17:22:38 -0400 (Fri, 31 Oct 2025) EndedAt: 2025-10-31 17:23:31 -0400 (Fri, 31 Oct 2025) EllapsedTime: 52.6 seconds RetCode: 0 Status: OK PackageFile: pathview_1.50.0.tar.gz PackageFileSize: 2.429 MiB