Package: pathview Version: 1.50.0 Command: rm -rf pathview.buildbin-libdir && mkdir pathview.buildbin-libdir && /Users/biocbuild/BBS/utils/build-universal.sh pathview_1.50.0.tar.gz /Library/Frameworks/R.framework/Resources/bin/R pathview.buildbin-libdir StartedAt: 2025-10-31 23:17:48 -0400 (Fri, 31 Oct 2025) EndedAt: 2025-10-31 23:17:56 -0400 (Fri, 31 Oct 2025) EllapsedTime: 8.2 seconds RetCode: 0 Status: OK PackageFile: pathview_1.50.0.tgz PackageFileSize: 2.731 MiB