Package: pathlinkR Version: 1.6.0 Command: /home/biocbuild/R/R/bin/R CMD INSTALL pathlinkR StartedAt: 2025-11-13 21:59:41 -0000 (Thu, 13 Nov 2025) EndedAt: 2025-11-13 22:00:02 -0000 (Thu, 13 Nov 2025) EllapsedTime: 21.0 seconds RetCode: 0 Status: OK