Package: pathlinkR Version: 1.6.0 Command: /home/biocbuild/bbs-3.22-bioc/R/bin/R CMD check --install=check:pathlinkR.install-out.txt --library=/home/biocbuild/bbs-3.22-bioc/R/site-library --timings pathlinkR_1.6.0.tar.gz StartedAt: 2025-11-12 02:33:52 -0500 (Wed, 12 Nov 2025) EndedAt: 2025-11-12 02:43:37 -0500 (Wed, 12 Nov 2025) EllapsedTime: 585.5 seconds RetCode: 0 Status: OK CheckDir: pathlinkR.Rcheck Warnings: 0