Package: pathlinkR Version: 1.4.0 Command: /home/biocbuild/bbs-3.21-bioc/R/bin/R CMD build --keep-empty-dirs --no-resave-data pathlinkR StartedAt: 2025-10-12 19:07:08 -0400 (Sun, 12 Oct 2025) EndedAt: 2025-10-12 19:10:42 -0400 (Sun, 12 Oct 2025) EllapsedTime: 214.2 seconds RetCode: 0 Status: OK PackageFile: pathlinkR_1.4.0.tar.gz PackageFileSize: 4.658 MiB