Package: pathlinkR Version: 1.6.0 Command: /Library/Frameworks/R.framework/Resources/bin/R CMD INSTALL pathlinkR StartedAt: 2025-11-03 15:46:05 -0500 (Mon, 03 Nov 2025) EndedAt: 2025-11-03 15:46:28 -0500 (Mon, 03 Nov 2025) EllapsedTime: 23.2 seconds RetCode: 0 Status: OK