Package: pathlinkR Version: 1.6.0 Command: /Library/Frameworks/R.framework/Resources/bin/R CMD build --keep-empty-dirs --no-resave-data pathlinkR StartedAt: 2025-11-03 18:10:36 -0500 (Mon, 03 Nov 2025) EndedAt: 2025-11-03 18:15:33 -0500 (Mon, 03 Nov 2025) EllapsedTime: 297.0 seconds RetCode: 0 Status: OK PackageFile: pathlinkR_1.6.0.tar.gz PackageFileSize: 4.783 MiB