Package: pathlinkR Version: 1.6.0 Command: rm -rf pathlinkR.buildbin-libdir && mkdir pathlinkR.buildbin-libdir && /Users/biocbuild/BBS/utils/build-universal.sh pathlinkR_1.6.0.tar.gz /Library/Frameworks/R.framework/Resources/bin/R pathlinkR.buildbin-libdir StartedAt: 2025-11-04 01:55:15 -0500 (Tue, 04 Nov 2025) EndedAt: 2025-11-04 01:55:42 -0500 (Tue, 04 Nov 2025) EllapsedTime: 26.7 seconds RetCode: 0 Status: OK PackageFile: pathlinkR_1.6.0.tgz PackageFileSize: 4.913 MiB