Package: pathlinkR Version: 1.4.0 Command: /Library/Frameworks/R.framework/Resources/bin/R CMD build --keep-empty-dirs --no-resave-data pathlinkR StartedAt: 2025-10-10 06:38:57 -0400 (Fri, 10 Oct 2025) EndedAt: 2025-10-10 06:43:31 -0400 (Fri, 10 Oct 2025) EllapsedTime: 273.9 seconds RetCode: 0 Status: OK PackageFile: pathlinkR_1.4.0.tar.gz PackageFileSize: 4.733 MiB