Package: pathlinkR Version: 1.4.0 Command: rm -rf pathlinkR.buildbin-libdir && mkdir pathlinkR.buildbin-libdir && /Users/biocbuild/BBS/utils/build-universal.sh pathlinkR_1.4.0.tar.gz /Library/Frameworks/R.framework/Resources/bin/R pathlinkR.buildbin-libdir StartedAt: 2025-10-11 21:29:10 -0400 (Sat, 11 Oct 2025) EndedAt: 2025-10-11 21:29:32 -0400 (Sat, 11 Oct 2025) EllapsedTime: 22.3 seconds RetCode: 0 Status: OK PackageFile: pathlinkR_1.4.0.tgz PackageFileSize: 4.861 MiB