Package: pathifier Version: 1.48.0 Command: /home/biocbuild/R/R/bin/R CMD INSTALL pathifier StartedAt: 2025-11-10 21:07:54 -0000 (Mon, 10 Nov 2025) EndedAt: 2025-11-10 21:08:44 -0000 (Mon, 10 Nov 2025) EllapsedTime: 50.0 seconds RetCode: 0 Status: OK