Package: pathifier Version: 1.48.0 Command: /home/biocbuild/R/R/bin/R CMD build --keep-empty-dirs --no-resave-data pathifier StartedAt: 2025-11-14 04:02:34 -0000 (Fri, 14 Nov 2025) EndedAt: 2025-11-14 04:03:03 -0000 (Fri, 14 Nov 2025) EllapsedTime: 29.0 seconds RetCode: 0 Status: OK PackageFile: pathifier_1.48.0.tar.gz PackageFileSize: 2.026 MiB