Package: pathifier Version: 1.48.0 Command: /home/biocbuild/bbs-3.22-bioc/R/bin/R CMD INSTALL pathifier StartedAt: 2025-11-11 15:09:53 -0500 (Tue, 11 Nov 2025) EndedAt: 2025-11-11 15:10:06 -0500 (Tue, 11 Nov 2025) EllapsedTime: 13.2 seconds RetCode: 0 Status: OK