Package: pathifier Version: 1.48.0 Command: /home/biocbuild/bbs-3.22-bioc/R/bin/R CMD build --keep-empty-dirs --no-resave-data --md5 pathifier StartedAt: 2025-11-13 19:18:30 -0500 (Thu, 13 Nov 2025) EndedAt: 2025-11-13 19:18:47 -0500 (Thu, 13 Nov 2025) EllapsedTime: 17.0 seconds RetCode: 0 Status: OK PackageFile: pathifier_1.48.0.tar.gz PackageFileSize: 2.033 MiB