Package: pathifier Version: 1.46.0 Command: /Library/Frameworks/R.framework/Resources/bin/R CMD build --keep-empty-dirs --no-resave-data pathifier StartedAt: 2025-10-13 21:24:56 -0400 (Mon, 13 Oct 2025) EndedAt: 2025-10-13 21:26:03 -0400 (Mon, 13 Oct 2025) EllapsedTime: 66.1 seconds RetCode: 0 Status: OK PackageFile: pathifier_1.46.0.tar.gz PackageFileSize: 2.033 MiB