Package: pathifier Version: 1.46.0 Command: rm -rf pathifier.buildbin-libdir && mkdir pathifier.buildbin-libdir && /Users/biocbuild/BBS/utils/build-universal.sh pathifier_1.46.0.tar.gz /Library/Frameworks/R.framework/Resources/bin/R pathifier.buildbin-libdir StartedAt: 2025-10-14 14:20:55 -0400 (Tue, 14 Oct 2025) EndedAt: 2025-10-14 14:21:03 -0400 (Tue, 14 Oct 2025) EllapsedTime: 8.3 seconds RetCode: 0 Status: OK PackageFile: pathifier_1.46.0.tgz PackageFileSize: 2.057 MiB