Package: pathRender Version: 1.78.0 Command: /home/biocbuild/R/R/bin/R CMD INSTALL pathRender StartedAt: 2025-11-13 21:33:50 -0000 (Thu, 13 Nov 2025) EndedAt: 2025-11-13 21:34:08 -0000 (Thu, 13 Nov 2025) EllapsedTime: 18.1 seconds RetCode: 0 Status: OK