Package: pathRender Version: 1.78.0 Command: /home/biocbuild/R/R/bin/R CMD build --keep-empty-dirs --no-resave-data pathRender StartedAt: 2025-11-14 04:04:28 -0000 (Fri, 14 Nov 2025) EndedAt: 2025-11-14 04:04:59 -0000 (Fri, 14 Nov 2025) EllapsedTime: 31.0 seconds RetCode: 0 Status: OK PackageFile: pathRender_1.78.0.tar.gz PackageFileSize: 293.6 KiB