Package: pathRender Version: 1.78.0 Command: /home/biocbuild/bbs-3.22-bioc/R/bin/R CMD INSTALL pathRender StartedAt: 2025-11-11 15:30:09 -0500 (Tue, 11 Nov 2025) EndedAt: 2025-11-11 15:30:23 -0500 (Tue, 11 Nov 2025) EllapsedTime: 13.6 seconds RetCode: 0 Status: OK