Package: pathRender Version: 1.76.0 Command: /home/biocbuild/bbs-3.21-bioc/R/bin/R CMD INSTALL pathRender StartedAt: 2025-09-28 15:40:09 -0400 (Sun, 28 Sep 2025) EndedAt: 2025-09-28 15:40:23 -0400 (Sun, 28 Sep 2025) EllapsedTime: 13.7 seconds RetCode: 0 Status: OK