Package: pathRender Version: 1.76.0 Command: /home/biocbuild/bbs-3.21-bioc/R/bin/R CMD build --keep-empty-dirs --no-resave-data pathRender StartedAt: 2025-09-28 19:17:27 -0400 (Sun, 28 Sep 2025) EndedAt: 2025-09-28 19:17:52 -0400 (Sun, 28 Sep 2025) EllapsedTime: 25.0 seconds RetCode: 0 Status: OK PackageFile: pathRender_1.76.0.tar.gz PackageFileSize: 301.4 KiB