Package: pathRender Version: 1.76.0 Command: rm -rf pathRender.buildbin-libdir && mkdir pathRender.buildbin-libdir && /Users/biocbuild/BBS/utils/build-universal.sh pathRender_1.76.0.tar.gz /Library/Frameworks/R.framework/Resources/bin/R pathRender.buildbin-libdir StartedAt: 2025-10-14 14:21:07 -0400 (Tue, 14 Oct 2025) EndedAt: 2025-10-14 14:21:55 -0400 (Tue, 14 Oct 2025) EllapsedTime: 47.6 seconds RetCode: 0 Status: OK PackageFile: pathRender_1.76.0.tgz PackageFileSize: 356.5 KiB