Package: pathRender Version: 1.76.0 Command: /Library/Frameworks/R.framework/Resources/bin/R CMD INSTALL pathRender StartedAt: 2025-09-25 15:45:42 -0400 (Thu, 25 Sep 2025) EndedAt: 2025-09-25 15:45:58 -0400 (Thu, 25 Sep 2025) EllapsedTime: 16.3 seconds RetCode: 0 Status: OK