Package: pathRender Version: 1.76.0 Command: /Library/Frameworks/R.framework/Resources/bin/R CMD build --keep-empty-dirs --no-resave-data pathRender StartedAt: 2025-09-30 06:20:02 -0400 (Tue, 30 Sep 2025) EndedAt: 2025-09-30 06:20:39 -0400 (Tue, 30 Sep 2025) EllapsedTime: 36.0 seconds RetCode: 0 Status: OK PackageFile: pathRender_1.76.0.tar.gz PackageFileSize: 301.4 KiB