Package: pathMED Version: 1.0.2 Command: /home/biocbuild/R/R/bin/R CMD INSTALL pathMED StartedAt: 2025-10-13 21:16:51 -0000 (Mon, 13 Oct 2025) EndedAt: 2025-10-13 21:17:09 -0000 (Mon, 13 Oct 2025) EllapsedTime: 18.6 seconds RetCode: 0 Status: OK