Package: pathMED Version: 1.0.2 Command: /home/biocbuild/R/R/bin/R CMD build --keep-empty-dirs --no-resave-data pathMED StartedAt: 2025-10-14 03:24:53 -0000 (Tue, 14 Oct 2025) EndedAt: 2025-10-14 03:26:39 -0000 (Tue, 14 Oct 2025) EllapsedTime: 106.1 seconds RetCode: 0 Status: OK PackageFile: pathMED_1.0.2.tar.gz PackageFileSize: 6.363 MiB