Package: parody Version: 1.68.0 Command: /home/biocbuild/bbs-3.22-bioc/R/bin/R CMD INSTALL parody StartedAt: 2025-11-14 15:04:30 -0500 (Fri, 14 Nov 2025) EndedAt: 2025-11-14 15:04:42 -0500 (Fri, 14 Nov 2025) EllapsedTime: 11.5 seconds RetCode: 0 Status: OK