Package: parglms Version: 1.42.0 Command: /home/biocbuild/bbs-3.22-bioc/R/bin/R CMD build --keep-empty-dirs --no-resave-data --md5 parglms StartedAt: 2025-11-11 19:19:35 -0500 (Tue, 11 Nov 2025) EndedAt: 2025-11-11 19:19:49 -0500 (Tue, 11 Nov 2025) EllapsedTime: 14.0 seconds RetCode: 0 Status: OK PackageFile: parglms_1.42.0.tar.gz PackageFileSize: 274.1 KiB