Package: parglms Version: 1.42.0 Command: /Library/Frameworks/R.framework/Resources/bin/R CMD INSTALL parglms StartedAt: 2025-11-10 15:10:25 -0500 (Mon, 10 Nov 2025) EndedAt: 2025-11-10 15:10:27 -0500 (Mon, 10 Nov 2025) EllapsedTime: 1.6 seconds RetCode: 0 Status: OK