Package: parglms Version: 1.42.0 Command: /Library/Frameworks/R.framework/Resources/bin/R CMD build --keep-empty-dirs --no-resave-data parglms StartedAt: 2025-11-10 17:18:51 -0500 (Mon, 10 Nov 2025) EndedAt: 2025-11-10 17:19:02 -0500 (Mon, 10 Nov 2025) EllapsedTime: 10.1 seconds RetCode: 0 Status: OK PackageFile: parglms_1.42.0.tar.gz PackageFileSize: 273.5 KiB