Package: parglms Version: 1.42.0 Command: rm -rf parglms.buildbin-libdir && mkdir parglms.buildbin-libdir && /Users/biocbuild/BBS/utils/build-universal.sh parglms_1.42.0.tar.gz /Library/Frameworks/R.framework/Resources/bin/R parglms.buildbin-libdir StartedAt: 2025-11-10 23:30:43 -0500 (Mon, 10 Nov 2025) EndedAt: 2025-11-10 23:30:45 -0500 (Mon, 10 Nov 2025) EllapsedTime: 2.1 seconds RetCode: 0 Status: OK PackageFile: parglms_1.42.0.tgz PackageFileSize: 295.3 KiB