Package: panp Version: 1.80.0 Command: /home/biocbuild/bbs-3.22-bioc/R/bin/R CMD build --keep-empty-dirs --no-resave-data --md5 panp StartedAt: 2025-11-11 19:19:24 -0500 (Tue, 11 Nov 2025) EndedAt: 2025-11-11 19:19:41 -0500 (Tue, 11 Nov 2025) EllapsedTime: 17.0 seconds RetCode: 0 Status: OK PackageFile: panp_1.80.0.tar.gz PackageFileSize: 672 KiB