Package: panelcn.mops Version: 1.32.0 Command: /home/biocbuild/bbs-3.22-bioc/R/bin/R CMD check --install=check:panelcn.mops.install-out.txt --library=/home/biocbuild/bbs-3.22-bioc/R/site-library --timings panelcn.mops_1.32.0.tar.gz StartedAt: 2025-11-12 02:31:05 -0500 (Wed, 12 Nov 2025) EndedAt: 2025-11-12 02:34:19 -0500 (Wed, 12 Nov 2025) EllapsedTime: 193.3 seconds RetCode: 0 Status: OK CheckDir: panelcn.mops.Rcheck Warnings: 0