Package: panelcn.mops Version: 1.30.0 Command: /home/biocbuild/bbs-3.21-bioc/R/bin/R CMD INSTALL panelcn.mops StartedAt: 2025-10-15 15:33:33 -0400 (Wed, 15 Oct 2025) EndedAt: 2025-10-15 15:33:46 -0400 (Wed, 15 Oct 2025) EllapsedTime: 13.0 seconds RetCode: 0 Status: OK