Package: panelcn.mops Version: 1.30.0 Command: /Library/Frameworks/R.framework/Resources/bin/R CMD INSTALL panelcn.mops StartedAt: 2025-04-21 15:28:47 -0400 (Mon, 21 Apr 2025) EndedAt: 2025-04-21 15:29:05 -0400 (Mon, 21 Apr 2025) EllapsedTime: 18.2 seconds RetCode: 0 Status: OK