Package: panelcn.mops Version: 1.30.0 Command: /Library/Frameworks/R.framework/Resources/bin/R CMD INSTALL panelcn.mops StartedAt: 2025-10-13 17:01:16 -0400 (Mon, 13 Oct 2025) EndedAt: 2025-10-13 17:01:31 -0400 (Mon, 13 Oct 2025) EllapsedTime: 15.5 seconds RetCode: 0 Status: OK