Package: panelcn.mops Version: 1.30.0 Command: /Library/Frameworks/R.framework/Resources/bin/R CMD build --keep-empty-dirs --no-resave-data panelcn.mops StartedAt: 2025-10-14 06:17:14 -0400 (Tue, 14 Oct 2025) EndedAt: 2025-10-14 06:17:46 -0400 (Tue, 14 Oct 2025) EllapsedTime: 32.0 seconds RetCode: 0 Status: OK PackageFile: panelcn.mops_1.30.0.tar.gz PackageFileSize: 608.7 KiB