Package: pandaR Version: 1.42.0 Command: /home/biocbuild/R/R/bin/R CMD build --keep-empty-dirs --no-resave-data pandaR StartedAt: 2025-11-14 04:01:27 -0000 (Fri, 14 Nov 2025) EndedAt: 2025-11-14 04:02:17 -0000 (Fri, 14 Nov 2025) EllapsedTime: 50.0 seconds RetCode: 0 Status: OK PackageFile: pandaR_1.42.0.tar.gz PackageFileSize: 8.664 MiB