Package: pandaR Version: 1.40.0 Command: /home/biocbuild/bbs-3.21-bioc/R/bin/R CMD INSTALL pandaR StartedAt: 2025-10-15 15:11:52 -0400 (Wed, 15 Oct 2025) EndedAt: 2025-10-15 15:12:00 -0400 (Wed, 15 Oct 2025) EllapsedTime: 8.2 seconds RetCode: 0 Status: OK