Package: pandaR Version: 1.40.0 Command: /home/biocbuild/R/R/bin/R CMD build --keep-empty-dirs --no-resave-data pandaR StartedAt: 2025-09-26 04:42:54 -0000 (Fri, 26 Sep 2025) EndedAt: 2025-09-26 04:44:04 -0000 (Fri, 26 Sep 2025) EllapsedTime: 70.1 seconds RetCode: 0 Status: OK PackageFile: pandaR_1.40.0.tar.gz PackageFileSize: 8.678 MiB