Package: pandaR Version: 1.40.0 Command: /Library/Frameworks/R.framework/Resources/bin/R CMD build --keep-empty-dirs --no-resave-data pandaR StartedAt: 2025-04-21 17:13:21 -0400 (Mon, 21 Apr 2025) EndedAt: 2025-04-21 17:13:40 -0400 (Mon, 21 Apr 2025) EllapsedTime: 19.2 seconds RetCode: 0 Status: OK PackageFile: pandaR_1.40.0.tar.gz PackageFileSize: 8.683 MiB