Package: pandaR Version: 1.40.0 Command: rm -rf pandaR.buildbin-libdir && mkdir pandaR.buildbin-libdir && /Users/biocbuild/BBS/utils/build-universal.sh pandaR_1.40.0.tar.gz /Library/Frameworks/R.framework/Resources/bin/R pandaR.buildbin-libdir StartedAt: 2025-04-21 22:45:47 -0400 (Mon, 21 Apr 2025) EndedAt: 2025-04-21 22:45:51 -0400 (Mon, 21 Apr 2025) EllapsedTime: 4.1 seconds RetCode: 0 Status: OK PackageFile: pandaR_1.40.0.tgz PackageFileSize: 9.1 MiB