Package: pandaR Version: 1.40.0 Command: rm -rf pandaR.buildbin-libdir && mkdir pandaR.buildbin-libdir && /Users/biocbuild/BBS/utils/build-universal.sh pandaR_1.40.0.tar.gz /Library/Frameworks/R.framework/Resources/bin/R pandaR.buildbin-libdir StartedAt: 2025-10-15 19:44:02 -0400 (Wed, 15 Oct 2025) EndedAt: 2025-10-15 19:44:16 -0400 (Wed, 15 Oct 2025) EllapsedTime: 13.5 seconds RetCode: 0 Status: OK PackageFile: pandaR_1.40.0.tgz PackageFileSize: 9.099 MiB