Package: pairedGSEA Version: 1.10.0 Command: /home/biocbuild/bbs-3.22-bioc/R/bin/R CMD INSTALL pairedGSEA StartedAt: 2025-11-11 15:38:44 -0500 (Tue, 11 Nov 2025) EndedAt: 2025-11-11 15:39:18 -0500 (Tue, 11 Nov 2025) EllapsedTime: 33.7 seconds RetCode: 0 Status: OK