Package: pairedGSEA Version: 1.10.0 Command: /home/biocbuild/bbs-3.22-bioc/R/bin/R CMD build --keep-empty-dirs --no-resave-data --md5 pairedGSEA StartedAt: 2025-11-11 19:18:25 -0500 (Tue, 11 Nov 2025) EndedAt: 2025-11-11 19:21:21 -0500 (Tue, 11 Nov 2025) EllapsedTime: 176.2 seconds RetCode: 0 Status: OK PackageFile: pairedGSEA_1.10.0.tar.gz PackageFileSize: 566.7 KiB